BEGIN:VCALENDAR
VERSION:2.0
PRODID:-//SG 1920 STAMMHEIM e.V. - ECPv6.15.20//NONSGML v1.0//EN
CALSCALE:GREGORIAN
METHOD:PUBLISH
X-WR-CALNAME:SG 1920 STAMMHEIM e.V.
X-ORIGINAL-URL:https://sg1920-stammheim.de
X-WR-CALDESC:Veranstaltungen für SG 1920 STAMMHEIM e.V.
REFRESH-INTERVAL;VALUE=DURATION:PT1H
X-Robots-Tag:noindex
X-PUBLISHED-TTL:PT1H
BEGIN:VTIMEZONE
TZID:Europe/Berlin
BEGIN:DAYLIGHT
TZOFFSETFROM:+0100
TZOFFSETTO:+0200
TZNAME:CEST
DTSTART:20250330T010000
END:DAYLIGHT
BEGIN:STANDARD
TZOFFSETFROM:+0200
TZOFFSETTO:+0100
TZNAME:CET
DTSTART:20251026T010000
END:STANDARD
BEGIN:DAYLIGHT
TZOFFSETFROM:+0100
TZOFFSETTO:+0200
TZNAME:CEST
DTSTART:20260329T010000
END:DAYLIGHT
BEGIN:STANDARD
TZOFFSETFROM:+0200
TZOFFSETTO:+0100
TZNAME:CET
DTSTART:20261025T010000
END:STANDARD
BEGIN:DAYLIGHT
TZOFFSETFROM:+0100
TZOFFSETTO:+0200
TZNAME:CEST
DTSTART:20270328T010000
END:DAYLIGHT
BEGIN:STANDARD
TZOFFSETFROM:+0200
TZOFFSETTO:+0100
TZNAME:CET
DTSTART:20271031T010000
END:STANDARD
END:VTIMEZONE
BEGIN:VEVENT
DTSTART;TZID=Europe/Berlin:20260501T100000
DTEND;TZID=Europe/Berlin:20260501T170000
DTSTAMP:20260418T000409
CREATED:20251212T084558Z
LAST-MODIFIED:20260409T121118Z
UID:1196-1777629600-1777654800@sg1920-stammheim.de
SUMMARY:Spielfest auf dem Sportplatz
DESCRIPTION:
URL:https://sg1920-stammheim.de/event/spielfest-auf-dem-sportplatz/
LOCATION:SG1920 Sportplatz Stammheim\, Sportplatz Stammheim\, Florstadt\, Hessen\, 61197\, Deutschland
ATTACH;FMTTYPE=image/jpeg:https://sg1920-stammheim.de/wp-content/uploads/2025/12/IMG_0574.jpeg
END:VEVENT
BEGIN:VEVENT
DTSTART;TZID=Europe/Berlin:20260620T180000
DTEND;TZID=Europe/Berlin:20260620T233000
DTSTAMP:20260418T000409
CREATED:20251129T125326Z
LAST-MODIFIED:20260310T075545Z
UID:1178-1781978400-1781998200@sg1920-stammheim.de
SUMMARY:Elfmeter-Fluchtlicht-Turnier 2026
DESCRIPTION:11-Meter-Flutlicht-Turnier des Förderkreises auf dem Sportplatz der SG 1920 Stammheim \n!!!Infos folgen!!! \nHier eindrücke aus dem Jahr 2025 \nhttps://sg1920-stammheim.de/wp-content/uploads/2025/11/b1fcf27da5af4dd8b6c81cd87dda2369.mp4
URL:https://sg1920-stammheim.de/event/stammheimer-elfmeterturnier-2026/
LOCATION:SG1920 Sportplatz Stammheim\, Sportplatz Stammheim\, Florstadt\, Hessen\, 61197\, Deutschland
END:VEVENT
BEGIN:VEVENT
DTSTART;TZID=Europe/Berlin:20260628T100000
DTEND;TZID=Europe/Berlin:20260628T170000
DTSTAMP:20260418T000409
CREATED:20251212T084651Z
LAST-MODIFIED:20251212T084651Z
UID:1198-1782640800-1782666000@sg1920-stammheim.de
SUMMARY:Ironman / Streckenposten
DESCRIPTION:
URL:https://sg1920-stammheim.de/event/ironman-streckenposten-3/
END:VEVENT
BEGIN:VEVENT
DTSTART;VALUE=DATE:20260714
DTEND;VALUE=DATE:20260719
DTSTAMP:20260418T000409
CREATED:20260310T075655Z
LAST-MODIFIED:20260323T165834Z
UID:1294-1783987200-1784419199@sg1920-stammheim.de
SUMMARY:Stadtpokal 2026
DESCRIPTION:
URL:https://sg1920-stammheim.de/event/stadtpokal-2026/
LOCATION:SG1920 Sportplatz Stammheim\, Sportplatz Stammheim\, Florstadt\, Hessen\, 61197\, Deutschland
END:VEVENT
BEGIN:VEVENT
DTSTART;TZID=Europe/Berlin:20260815T100000
DTEND;TZID=Europe/Berlin:20260815T170000
DTSTAMP:20260418T000409
CREATED:20251212T084746Z
LAST-MODIFIED:20251212T084746Z
UID:1200-1786788000-1786813200@sg1920-stammheim.de
SUMMARY:Bierwanderung der FFW Stammheim
DESCRIPTION:– Verkaufsstand am Sportplatz
URL:https://sg1920-stammheim.de/event/bierwanderung-der-ffw-stammheim/
LOCATION:SG1920 Sportplatz Stammheim\, Sportplatz Stammheim\, Florstadt\, Hessen\, 61197\, Deutschland
ORGANIZER;CN="Freiwillige Feuerwehr Stammheim":MAILTO:info@ffw-stammheim.de
END:VEVENT
BEGIN:VEVENT
DTSTART;TZID=Europe/Berlin:20260822T080000
DTEND;TZID=Europe/Berlin:20260823T120000
DTSTAMP:20260418T000409
CREATED:20260310T080401Z
LAST-MODIFIED:20260310T080401Z
UID:1301-1787385600-1787486400@sg1920-stammheim.de
SUMMARY:Sportplatzübernachtung (auch Fußballjugend) im Zelt
DESCRIPTION:
URL:https://sg1920-stammheim.de/event/sportplatzuebernachtung-auch-fussballjugend-im-zelt/
LOCATION:SG1920 Sportplatz Stammheim\, Sportplatz Stammheim\, Florstadt\, Hessen\, 61197\, Deutschland
ORGANIZER;CN="SG1920 Stammheim e.V.":MAILTO:kontakt@sg-stammheim.de
END:VEVENT
BEGIN:VEVENT
DTSTART;TZID=Europe/Berlin:20260905T100000
DTEND;TZID=Europe/Berlin:20260906T170000
DTSTAMP:20260418T000409
CREATED:20251212T084820Z
LAST-MODIFIED:20260208T085230Z
UID:1202-1788602400-1788714000@sg1920-stammheim.de
SUMMARY:Traktorfest auf dem Bolzplatz
DESCRIPTION:
URL:https://sg1920-stammheim.de/event/traktorfest-auf-dem-bolzplatz/
END:VEVENT
BEGIN:VEVENT
DTSTART;TZID=Europe/Berlin:20260926T130000
DTEND;TZID=Europe/Berlin:20260926T160000
DTSTAMP:20260418T000409
CREATED:20251212T084850Z
LAST-MODIFIED:20260309T080530Z
UID:1204-1790427600-1790438400@sg1920-stammheim.de
SUMMARY:Nachhaltiger Kleiderbasar für Erwachsenenbekleidung und Bücher
DESCRIPTION:
URL:https://sg1920-stammheim.de/event/nachhaltiger-kleiderbasar-fuer-erwachsenenbekleidung-und-buecher-7/
LOCATION:Bürgerhaus\, Hainbachstraße 1\, Florstadt\, Hessen\, 61197
ATTACH;FMTTYPE=image/jpeg:https://sg1920-stammheim.de/wp-content/uploads/2025/12/Kleiderbasar-2026-09-26.jpeg
ORGANIZER;CN="SG1920 Stammheim e.V.":MAILTO:kontakt@sg-stammheim.de
END:VEVENT
BEGIN:VEVENT
DTSTART;TZID=Europe/Berlin:20261003T100000
DTEND;TZID=Europe/Berlin:20261003T170000
DTSTAMP:20260418T000409
CREATED:20251212T084933Z
LAST-MODIFIED:20251212T084933Z
UID:1206-1791021600-1791046800@sg1920-stammheim.de
SUMMARY:12. Weinfest des Förderkreises der SG 1920 Stammheim
DESCRIPTION:
URL:https://sg1920-stammheim.de/event/12-weinfest-des-foerderkreises-der-sg-1920-stammheim/
LOCATION:Halle SCC\, Am Mühlberg 27\, Florstadt\, 61197
END:VEVENT
BEGIN:VEVENT
DTSTART;TZID=Europe/Berlin:20261024T093000
DTEND;TZID=Europe/Berlin:20261024T120000
DTSTAMP:20260418T000409
CREATED:20260310T080441Z
LAST-MODIFIED:20260310T080441Z
UID:1303-1792834200-1792843200@sg1920-stammheim.de
SUMMARY:Zeltabbau
DESCRIPTION:
URL:https://sg1920-stammheim.de/event/zeltabbau/
LOCATION:SG1920 Sportplatz Stammheim\, Sportplatz Stammheim\, Florstadt\, Hessen\, 61197\, Deutschland
END:VEVENT
BEGIN:VEVENT
DTSTART;TZID=Europe/Berlin:20261106T170000
DTEND;TZID=Europe/Berlin:20261106T190000
DTSTAMP:20260418T000409
CREATED:20251212T085023Z
LAST-MODIFIED:20251212T085023Z
UID:1208-1793984400-1793991600@sg1920-stammheim.de
SUMMARY:Martinsumzug
DESCRIPTION:
URL:https://sg1920-stammheim.de/event/martinsumzug/
ORGANIZER;CN="SG1920 Stammheim e.V.":MAILTO:kontakt@sg-stammheim.de
END:VEVENT
BEGIN:VEVENT
DTSTART;VALUE=DATE:20261114
DTEND;VALUE=DATE:20261115
DTSTAMP:20260418T000409
CREATED:20260310T080522Z
LAST-MODIFIED:20260310T080522Z
UID:1305-1794614400-1794700799@sg1920-stammheim.de
SUMMARY:Übungsleiter/innen Fortbildung Gymnastik zur Lizenzverlängerung Veranstalter: Turngau Wetterau Vogelsberg
DESCRIPTION:Übungsleiter/innen Fortbildung Gymnastik zur Lizenzverlängerung Veranstalter: Turngau Wetterau Vogelsberg / durchgeführt von der SG
URL:https://sg1920-stammheim.de/event/uebungsleiter-innen-fortbildung-gymnastik-zur-lizenzverlaengerung-veranstalter-turngau-wetterau-vogelsberg/
ORGANIZER;CN="SG1920 Stammheim e.V.":MAILTO:kontakt@sg-stammheim.de
END:VEVENT
BEGIN:VEVENT
DTSTART;TZID=Europe/Berlin:20261219T180000
DTEND;TZID=Europe/Berlin:20261219T233000
DTSTAMP:20260418T000409
CREATED:20260310T080751Z
LAST-MODIFIED:20260310T080853Z
UID:1307-1797703200-1797723000@sg1920-stammheim.de
SUMMARY:Weihnachtsfeier S.C. Germania 1920\, Nieder-Mockstadt e. V.
DESCRIPTION:
URL:https://sg1920-stammheim.de/event/weihnachtsfeier-s-c-germania-1920-nieder-mockstadt-e-v/
LOCATION:Goldbachhalle Florstadt\, Florstadt-Nieder-Mockstadt Goldbachhalle\, Florstadt\, 61197
END:VEVENT
END:VCALENDAR